BEGIN:VCALENDAR
VERSION:2.0
PRODID:-//Things to do in Lincoln County Colorado - ECPv6.13.2.1//NONSGML v1.0//EN
CALSCALE:GREGORIAN
METHOD:PUBLISH
X-WR-CALNAME:Things to do in Lincoln County Colorado
X-ORIGINAL-URL:https://seelincolncounty.com
X-WR-CALDESC:Events for Things to do in Lincoln County Colorado
REFRESH-INTERVAL;VALUE=DURATION:PT1H
X-Robots-Tag:noindex
X-PUBLISHED-TTL:PT1H
BEGIN:VTIMEZONE
TZID:America/Denver
BEGIN:DAYLIGHT
TZOFFSETFROM:-0700
TZOFFSETTO:-0600
TZNAME:MDT
DTSTART:20230312T090000
END:DAYLIGHT
BEGIN:STANDARD
TZOFFSETFROM:-0600
TZOFFSETTO:-0700
TZNAME:MST
DTSTART:20231105T080000
END:STANDARD
BEGIN:DAYLIGHT
TZOFFSETFROM:-0700
TZOFFSETTO:-0600
TZNAME:MDT
DTSTART:20240310T090000
END:DAYLIGHT
BEGIN:STANDARD
TZOFFSETFROM:-0600
TZOFFSETTO:-0700
TZNAME:MST
DTSTART:20241103T080000
END:STANDARD
END:VTIMEZONE
BEGIN:VEVENT
DTSTART;VALUE=DATE:20240601
DTEND;VALUE=DATE:20240602
DTSTAMP:20260423T191539
CREATED:20240116T171158Z
LAST-MODIFIED:20240116T171158Z
UID:3668-1717200000-1717286399@seelincolncounty.com
SUMMARY:Rohr Into Summer
DESCRIPTION:
URL:https://seelincolncounty.com/event/rohr-into-summer-4/
END:VEVENT
BEGIN:VEVENT
DTSTART;VALUE=DATE:20240425
DTEND;VALUE=DATE:20240429
DTSTAMP:20260423T191539
CREATED:20240116T172414Z
LAST-MODIFIED:20240116T172414Z
UID:3674-1714003200-1714348799@seelincolncounty.com
SUMMARY:Mountain Plover Festival
DESCRIPTION:What is the Mountain Plover?\nThe Mountain Plover is a bird that begins arriving to Colorado’s Eastern Plains in early April. Plovers find the short grass prairie and fallow fields in the area to be excellent nesting grounds. \nWhen is the Mountain Plover Festival?\nThe Karval Mountain Plover Festival began when Karval community members were looking at economic opportunities for this small community. We decided to “bring the bird lovers to the bird”. This is a weekend full of bird watching\, Wildlife viewing tours\, entertainment\, history\, arts and crafts\, antiques\, and LOTS OF GOOD FOOD! Along with bird watching\, here are some of the other things you will enjoy: \n\nYou’ll get the chance to mingle with farmers and ranchers who choose to live in the local community and learn about their lifestyle.\nEat home style food at every meal. Most meals are prepared by the community’s non-profit organizations.\nSaturday evening includes a Country dinner with authentic western entertainment.\nLearn about conservation practices and history of the area.\nTour Private Land that would normally not be accessible.\nMake new friends!\n\nClick here for brochure\nEvent Highlights:\n\nTwo-day tours and one night tour – You’ll see birds and many other wild animals!\nTours on private land\nCountry hospitality with all meals included.\nPhoto Contest\n\nWhere to stay?\n\nHome stays with local families Stay with working farmers and ranchers.\nElectric hookups for motor homes are available.\nPrimitive camping sites available.\nThe closest motels are in Hugo and Limon\, Colorado. Click Here for More\n\nFor more lodging information contact; Debbie 719-892-0864 email cwgrlgranny@gmail.com
URL:https://seelincolncounty.com/event/mountain-plover-festival-4/
LOCATION:Karval Community Alliance\, Karval\, CO\, 80823
CATEGORIES:Festival
ATTACH;FMTTYPE=image/png:https://seelincolncounty.com/wp-content/uploads/2024/01/Mountain-Plover-Festival.png
END:VEVENT
BEGIN:VEVENT
DTSTART;TZID=America/Denver:20240420T080000
DTEND;TZID=America/Denver:20240420T170000
DTSTAMP:20260423T191539
CREATED:20240116T170924Z
LAST-MODIFIED:20240116T170924Z
UID:3662-1713600000-1713632400@seelincolncounty.com
SUMMARY:Limon Heritage Society Gala
DESCRIPTION:
URL:https://seelincolncounty.com/event/limon-heritage-society-gala/
LOCATION:Hub City Senior Center\, 220 E Ave\, \, Limon\, CO\, 80828\, United States
END:VEVENT
BEGIN:VEVENT
DTSTART;TZID=America/Denver:20231216T100000
DTEND;TZID=America/Denver:20231216T180000
DTSTAMP:20260423T191539
CREATED:20231121T234957Z
LAST-MODIFIED:20231121T234957Z
UID:3644-1702720800-1702749600@seelincolncounty.com
SUMMARY:"Red"dy for Santa- Limon Colorado
DESCRIPTION:
URL:https://seelincolncounty.com/event/reddy-for-santa-limon-colorado/
END:VEVENT
BEGIN:VEVENT
DTSTART;TZID=America/Denver:20231216T090000
DTEND;TZID=America/Denver:20231216T110000
DTSTAMP:20260423T191539
CREATED:20231122T051232Z
LAST-MODIFIED:20231122T051232Z
UID:3654-1702717200-1702724400@seelincolncounty.com
SUMMARY:Breakfast with the Elves
DESCRIPTION:
URL:https://seelincolncounty.com/event/breakfast-with-the-elves-3/
LOCATION:Lincoln County Fairgrounds\, 33747 County Road 2w\, Hugo\, CO\, 80821\, United States
CATEGORIES:Holiday
ORGANIZER;CN="Lincoln Health":MAILTO:contactus@lchnh.com
END:VEVENT
BEGIN:VEVENT
DTSTART;TZID=America/Denver:20231203T150000
DTEND;TZID=America/Denver:20231203T163000
DTSTAMP:20260423T191539
CREATED:20231122T001352Z
LAST-MODIFIED:20231122T001352Z
UID:3650-1701615600-1701621000@seelincolncounty.com
SUMMARY:Christmas Music Concert
DESCRIPTION:
URL:https://seelincolncounty.com/event/christmas-music-concert/
LOCATION:Limon Methodist Church\, 770 B Ave\, Limon\, CO\, 80828\, United States
END:VEVENT
BEGIN:VEVENT
DTSTART;TZID=America/Denver:20231203T130000
DTEND;TZID=America/Denver:20231203T160000
DTSTAMP:20260423T191539
CREATED:20231121T235156Z
LAST-MODIFIED:20231121T235156Z
UID:3647-1701608400-1701619200@seelincolncounty.com
SUMMARY:
DESCRIPTION:
URL:https://seelincolncounty.com/event/3647/
LOCATION:Prairie Ridge Buffalo Ranch\, 23001 County Road 201\, Limon\, CO\, 80828
END:VEVENT
BEGIN:VEVENT
DTSTART;TZID=America/Denver:20231116T080000
DTEND;TZID=America/Denver:20231116T170000
DTSTAMP:20260423T191539
CREATED:20231117T020951Z
LAST-MODIFIED:20231117T020952Z
UID:3638-1700121600-1700154000@seelincolncounty.com
SUMMARY:Hugo Prairie Yuletide- Live Nativity
DESCRIPTION:Kick off the holiday season right in Hugo\, CO Saturday November 18th beginning at 4:00 pm. \n\n4:00 – Dark- Live Nativity (real camels!)\n5 pm- 8 pm- Late Night Shopping\n\nDon’t miss the local and unique vendors\, Cowboy Christmas Themed Light Display\, Pictures with Santa at PArmers Automotive\, First Responder Chili Cook-Off\, Food & Drink specials at the VFW\, and live music at the Omega Center!
URL:https://seelincolncounty.com/event/hugo-prairie-yuletide-live-nativity/
CATEGORIES:Holiday
END:VEVENT
BEGIN:VEVENT
DTSTART;TZID=America/Denver:20231031T160000
DTEND;TZID=America/Denver:20231031T193000
DTSTAMP:20260423T191539
CREATED:20231018T010012Z
LAST-MODIFIED:20231018T010012Z
UID:3622-1698768000-1698780600@seelincolncounty.com
SUMMARY:Hugo Trunk or Treat
DESCRIPTION:
URL:https://seelincolncounty.com/event/hugo-trunk-or-treat/
LOCATION:Hugo United Methodist Church\, 126 5th St\, Hugo\, 80821\, United States
END:VEVENT
BEGIN:VEVENT
DTSTART;TZID=America/Denver:20231029T130000
DTEND;TZID=America/Denver:20231029T170000
DTSTAMP:20260423T191539
CREATED:20231018T010948Z
LAST-MODIFIED:20231018T010948Z
UID:3629-1698584400-1698598800@seelincolncounty.com
SUMMARY:Limon Fall Fest
DESCRIPTION:
URL:https://seelincolncounty.com/event/limon-fall-fest/
LOCATION:Limon Public School\, 874 F Ave\, Limon\, CO\, 80828\, United States
END:VEVENT
BEGIN:VEVENT
DTSTART;TZID=America/Denver:20231028T190000
DTEND;TZID=America/Denver:20231031T220000
DTSTAMP:20260423T191539
CREATED:20231018T005032Z
LAST-MODIFIED:20231018T005032Z
UID:3618-1698519600-1698789600@seelincolncounty.com
SUMMARY:Mindbender Haunted House and Maze
DESCRIPTION:
URL:https://seelincolncounty.com/event/mindbender-haunted-house-and-maze/
LOCATION:Old Gymnasium 915 College Avenue\, Arriba CO\, 915 College Ave\, Arriba\, CO
END:VEVENT
BEGIN:VEVENT
DTSTART;TZID=America/Denver:20231028T170000
DTEND;TZID=America/Denver:20231028T190000
DTSTAMP:20260423T191539
CREATED:20231018T010527Z
LAST-MODIFIED:20231018T010527Z
UID:3625-1698512400-1698519600@seelincolncounty.com
SUMMARY:Halloween on Main
DESCRIPTION:
URL:https://seelincolncounty.com/event/halloween-on-main/
LOCATION:Flagler\, CO\, Main Street\, Flagler\, CO
END:VEVENT
BEGIN:VEVENT
DTSTART;TZID=America/Denver:20230930T190000
DTEND;TZID=America/Denver:20230930T220000
DTSTAMP:20260423T191539
CREATED:20230913T030626Z
LAST-MODIFIED:20230913T031054Z
UID:3609-1696100400-1696111200@seelincolncounty.com
SUMMARY:Back Alley Benefit
DESCRIPTION:
URL:https://seelincolncounty.com/event/back-alley-benefit/
ORGANIZER;CN="Hugo Main Street":MAILTO:hugomainst@gmail.com
END:VEVENT
BEGIN:VEVENT
DTSTART;TZID=America/Denver:20230930T160000
DTEND;TZID=America/Denver:20230930T190000
DTSTAMP:20260423T191539
CREATED:20230913T030838Z
LAST-MODIFIED:20230913T030838Z
UID:3611-1696089600-1696100400@seelincolncounty.com
SUMMARY:Hugo Wine Walk 2023
DESCRIPTION:
URL:https://seelincolncounty.com/event/2023hugowinewalk/
ORGANIZER;CN="Hugo Main Street":MAILTO:hugomainst@gmail.com
END:VEVENT
BEGIN:VEVENT
DTSTART;TZID=America/Denver:20230826T180000
DTEND;TZID=America/Denver:20230826T220000
DTSTAMP:20260423T191539
CREATED:20230321T213547Z
LAST-MODIFIED:20230321T213547Z
UID:3544-1693072800-1693087200@seelincolncounty.com
SUMMARY:Limon Rotary Summer Concert Series: Playing With Smoke
DESCRIPTION:
URL:https://seelincolncounty.com/event/limon-rotary-summer-concert-series-playing-with-smoke/
LOCATION:Limon Railroad Park\, 701 1st Street\, Limon\, CO\, 80828
ORGANIZER;CN="Limon Rotary":MAILTO:info@limonrotary.com
END:VEVENT
BEGIN:VEVENT
DTSTART;VALUE=DATE:20230826
DTEND;VALUE=DATE:20230827
DTSTAMP:20260423T191539
CREATED:20230221T004708Z
LAST-MODIFIED:20230321T213711Z
UID:3528-1693008000-1693094399@seelincolncounty.com
SUMMARY:Hub City Classic & Motorcycle Show
DESCRIPTION:
URL:https://seelincolncounty.com/event/hub-city-classic-motorcycle-show/
LOCATION:Limon\, CO\, Limon\, CO\, 80826\, 80828\, US
END:VEVENT
BEGIN:VEVENT
DTSTART;VALUE=DATE:20230811
DTEND;VALUE=DATE:20230812
DTSTAMP:20260423T191539
CREATED:20230606T194101Z
LAST-MODIFIED:20230606T194530Z
UID:3578-1691712000-1691798399@seelincolncounty.com
SUMMARY:Reed Southall Band at the Lincoln County Fair
DESCRIPTION:Calling all rodeo enthusiasts and music lovers! Get ready for an incredible night of entertainment at the Lincoln County Fair in Hugo\, Colorado\, on August 11\, 2023. After the thrilling PRCA rodeo\, don’t miss your chance to catch the electrifying performance by the Reed Southall Band. With their infectious energy and soulful sound\, this talented group is set to take the stage by storm\, delivering a high-octane performance that will leave you begging for more. Picture yourself immersed in the vibrant atmosphere of the fair\, surrounded by the excitement of the rodeo and the rhythmic melodies of Reed Southall Band. This is an experience you don’t want to miss. So gather your friends\, secure your tickets\, and prepare to be blown away by an unforgettable night of music\, rodeo action\, and the warm community spirit of Hugo\, Colorado. Get ready to dance\, sing along\, and make memories that will last a lifetime. Join us at the Lincoln County Fair on August 11\, 2023\, and let Reed Southall Band ignite your passion for great music!
URL:https://seelincolncounty.com/event/reed-southall-band-at-the-lincoln-county-fair/
LOCATION:Lincoln County Fairgrounds\, 33747 County Road 2w\, Hugo\, CO\, 80821\, United States
ORGANIZER;CN="Colorado Prairie Arts and Music Council":MAILTO:prairieartsandmusic@gmail.com
END:VEVENT
BEGIN:VEVENT
DTSTART;VALUE=DATE:20230807
DTEND;VALUE=DATE:20230813
DTSTAMP:20260423T191539
CREATED:20230221T004355Z
LAST-MODIFIED:20230221T004355Z
UID:3526-1691366400-1691884799@seelincolncounty.com
SUMMARY:Lincoln County Fair\, Rodeo & Concert
DESCRIPTION:Stay tuned for upcoming details on all the exciting events at the FREE Lincoln County Fair & Rodeo!
URL:https://seelincolncounty.com/event/lincoln-county-fair-rodeo-concert/
END:VEVENT
BEGIN:VEVENT
DTSTART;TZID=America/Denver:20230728T180000
DTEND;TZID=America/Denver:20230728T210000
DTSTAMP:20260423T191539
CREATED:20230221T003925Z
LAST-MODIFIED:20230321T213123Z
UID:3521-1690567200-1690578000@seelincolncounty.com
SUMMARY:Limon Rotary Concert in the Park Series- Long Run
DESCRIPTION:
URL:https://seelincolncounty.com/event/limon-rotary-concert-in-the-park-series-long-run/
LOCATION:Limon Railroad Park\, 701 1st Street\, Limon\, CO\, 80828
CATEGORIES:Concert
ORGANIZER;CN="Limon Rotary":MAILTO:info@limonrotary.com
END:VEVENT
BEGIN:VEVENT
DTSTART;VALUE=DATE:20230701
DTEND;VALUE=DATE:20230702
DTSTAMP:20260423T191539
CREATED:20230616T234609Z
LAST-MODIFIED:20230616T234817Z
UID:3597-1688169600-1688255999@seelincolncounty.com
SUMMARY:Limon Independence Day Celebration
DESCRIPTION:LIMON RECREATION DEPARTMENT ACTIVITIES\n5K: Starts at 7 am at the Community Building Registration at Community Building at 6:30 am. \nCorn Hole Tournament: Noon at the Football Field \nVolleyball Tournament: Noon at the Football Field \n  \nVENDOR FAIR AT THE  LIMON SCHOOL\n10am-4pm \nVendors contact Joy Johnson at 719-892-0507 or joyjohnson2or2@gmail.com for details \n  \nPRIME RIB SANDWICH MEAL\nSchool Cafeteria 12pm-5pm \nAmerican Legion Post 2017 Sponsored by RCI and Vets Helping Vets Price: $8 Kids Meal for kids aged 12 and under FREE \n  \nFireworks at Gaskill Field at Dusk\nFireworks Sponsored in Part by Lincoln County Tourism Brownies and Ice Cream for sale at the concession stand before the show! \nGOLF TOURNAMENT at Tamarack Golf Club\nJuly 4th\, (Tuesday)\, 8 am: 8 hole\, Par 3\,2 Person scramble $ro.oo Tourney includes lunch/dinner and hole prizes
URL:https://seelincolncounty.com/event/limon-independence-day-celebration-4/
END:VEVENT
BEGIN:VEVENT
DTSTART;VALUE=DATE:20230701
DTEND;VALUE=DATE:20230705
DTSTAMP:20260423T191539
CREATED:20230616T233003Z
LAST-MODIFIED:20230616T233003Z
UID:3594-1688169600-1688515199@seelincolncounty.com
SUMMARY:Town of Hugo Independence Celebration
DESCRIPTION:Hugo\, CO Independence Day (Weekend) Celebration\n*Sponsored by the Hugo Improvement Partnership\nSaturday\, July 1\nCorn Hole Event at Fairgrounds. For interested vendors and more info\, please contact Tiffany Stewart at 719-775-1388. There will be activities for everyone!\nSunday\, July 2\n8:00-10:00am: Breakfast with the vets at the VFW $7.00/plate\nTuesday\, July 4\n9:00am: Gymkhana at the Fairgrounds. Contact Anita Smith for more info: 719-768-3333\n-Lions Club will be serving concessions\, including lunch. South side of the arena. Everyone is encouraged to come eat lunch!\n9:30am – Noon: Patriotic Fun Run! Starts at the Hospital. Finishes at the fairgrounds. Participants are encouraged to dress in red\, white and blue! $25.00 entry fee will include a T-shirt/Swag Bag\, and a voucher for lunch at the Fairgrounds afterwards served by the Hugo Lions Club. Expect bubbles and lots of fun! Hosted by Eastern Plains Cowbelles\, Lincoln Health and the Hugo Fire Protection District. Prizes for Fastest Time\, Best Dressed\, Little Sneaker (Fastest Kid under 10) and Silver Sneaker (Over 60) Pre-register on Eventbrite.com or go to Lincoln Health’s Facebook page.\nNoon-6:00pm: FREE Swimming at Hugo Municipal Pool\n9:00pm: Fireworks at the fairgrounds put on by Hugo Fire Protection District. Donations welcome\nThank you to all who make this celebration so special! A special thanks to all organizers of the events\, the Hugo Fire Department\, Lincoln County Tourism Board\, and the Fairgrounds employees. Thanks to everyone who takes parts in these fun events throughout the weekend. God Bless the USA!
URL:https://seelincolncounty.com/event/town-of-hugo-independence-celebration/
LOCATION:Lincoln County Fairgrounds\, 33747 County Road 2w\, Hugo\, CO\, 80821\, United States
END:VEVENT
BEGIN:VEVENT
DTSTART;TZID=America/Denver:20230624T210000
DTEND;TZID=America/Denver:20230624T223000
DTSTAMP:20260423T191539
CREATED:20230606T192527Z
LAST-MODIFIED:20230606T194451Z
UID:3575-1687640400-1687645800@seelincolncounty.com
SUMMARY:Randall King at the Colorado Championship Ranch Rodeo
DESCRIPTION:Calling all country music enthusiasts and rodeo fans! Don’t miss out on the incredible opportunity to experience the Colorado Championship Ranch Rodeo featuring the highly talented Randall King in concert on June 24\, 2023. This is your chance to be a part of an unforgettable evening filled with soul-stirring music\, electrifying performances\, and the authentic atmosphere of a ranch rodeo. Randall King’s dynamic voice and captivating stage presence are bound to leave you mesmerized\, as he delivers a powerhouse performance that will have you singing along to your favorite tunes. Whether you’re a die-hard fan or simply looking for a remarkable entertainment experience\, this event promises to deliver it all. So grab your friends\, secure your tickets\, and prepare for a night of country music magic at the Colorado Championship Ranch Rodeo with Randall King on June 24\, 2023. Get ready to create lasting memories and embrace the spirit of the West like never before!
URL:https://seelincolncounty.com/event/randall-king-at-the-colorado-championship-ranch-rodeo/
LOCATION:Lincoln County Fairgrounds\, 33747 County Road 2w\, Hugo\, CO\, 80821\, United States
ORGANIZER;CN="Colorado Championship Ranch Rodeo":MAILTO:ccrr@esrta.com
END:VEVENT
BEGIN:VEVENT
DTSTART;TZID=America/Denver:20230623T180000
DTEND;TZID=America/Denver:20230624T230000
DTSTAMP:20260423T191539
CREATED:20230321T174929Z
LAST-MODIFIED:20230321T174929Z
UID:3535-1687543200-1687647600@seelincolncounty.com
SUMMARY:Colorado Championship Ranch Rodeo
DESCRIPTION:Join us for the 22nd Annual CCRR hosting a WRCA Sanctioned Ranch Rodeo\, WRCA Youth Ranch Rodeo\, Western Trade Show\, Jeremiah Ward Memorial Bronc Riding\, Chuck Wagon Meal\, Outdoor Dance with Live Band. There will be concessions on site as well. Great family event in a great small town! Visit our website for the full schedule! Hope to see you there!
URL:https://seelincolncounty.com/event/colorado-championship-ranch-rodeo-4/
LOCATION:Lincoln County Fairgrounds\, 33747 County Road 2w\, Hugo\, CO\, 80821\, United States
ORGANIZER;CN="Tina Waite":MAILTO:ccrr@esrta.com
END:VEVENT
BEGIN:VEVENT
DTSTART;TZID=America/Denver:20230623T160000
DTEND;TZID=America/Denver:20230624T210000
DTSTAMP:20260423T191539
CREATED:20230221T002638Z
LAST-MODIFIED:20230221T002638Z
UID:3518-1687536000-1687640400@seelincolncounty.com
SUMMARY:Colorado Championship Ranch Rodeo
DESCRIPTION:Friday\, June 23\, 2023\n2:00 – 4:00 pm Team Check-In and Team BBQ \n4:00 – 10:00 pm Trade Show Open\n5:00 pm Calcutta of Teams\n5:30 pm Rules Meeting \n6:00 pm First Performance \nSaturday\, June 24\, 2023 \n8:00 am Top Hand Competition\n8:30 am Trade Show Opens \n10:00 am WRCA Youth Ranch Rodeo \n1:30 pm Bronc Rider Calcutta\n2:00 pm Jeremiah Ward Memorial\nOpen Ranch Bronc Riding \n  3:30  Chuck Wagon Cook-Off Meal Served \nOnly 275 Tickets Available for Meal \nClick Here for Tickets – \n5:00 pm Second Performance\n9:00 pm Live Band “Rodeo Road Apples” \n\n              General Gate Admission:\n$6/day for Adult ~ Children under 12 FREE\nTickets can be purchased at the gate.\nWhere else can you play for $6 a day??
URL:https://seelincolncounty.com/event/colorado-championship-ranch-rodeo-3/
ORGANIZER;CN="Colorado Championship Ranch Rodeo":MAILTO:ccrr@esrta.com
END:VEVENT
BEGIN:VEVENT
DTSTART;TZID=America/Denver:20230617T083000
DTEND;TZID=America/Denver:20230617T143000
DTSTAMP:20260423T191539
CREATED:20230609T232852Z
LAST-MODIFIED:20230609T232852Z
UID:3587-1686990600-1687012200@seelincolncounty.com
SUMMARY:30th Annual Heritage Day
DESCRIPTION:
URL:https://seelincolncounty.com/event/30th-annual-heritage-day/
LOCATION:Limon Heritage Museum & Railroad Park\, 710 1st St\, Limon\, CO\, 80828
CATEGORIES:Limon Heritage Museum Events
END:VEVENT
BEGIN:VEVENT
DTSTART;VALUE=DATE:20230617
DTEND;VALUE=DATE:20230618
DTSTAMP:20260423T191539
CREATED:20230221T001049Z
LAST-MODIFIED:20230221T001459Z
UID:3513-1686960000-1687046399@seelincolncounty.com
SUMMARY:Limon Heritage Festival
DESCRIPTION:Join us for a full day of history and fun! Events include a Pie Sale in the Dining Car\, Quilt Show\, Face Painting\, Brick Dedication\, Buffalo Burgers\, Cowboy Poetry\, Music\, and More! Stay tuned for further updates!
URL:https://seelincolncounty.com/event/limon-heritage-festival-2/
END:VEVENT
BEGIN:VEVENT
DTSTART;TZID=America/Denver:20230610T110000
DTEND;TZID=America/Denver:20230610T170000
DTSTAMP:20260423T191539
CREATED:20230609T232354Z
LAST-MODIFIED:20230609T233057Z
UID:3582-1686394800-1686416400@seelincolncounty.com
SUMMARY:2nd Annual Southside BBq Cook-Off & Concert
DESCRIPTION:We are back for another year of BBQ and fun!! Tickets are now on sale and we are going to have a craft fair\, cornhole tournament\, concert and cook off! Tickets $30 before the event or $50 at the door
URL:https://seelincolncounty.com/event/2nd-annual-southside-bbq-cook-off-concert/
LOCATION:Southside Food & Drink\, 680 Main St.\, Limon\, CO\, 80828
END:VEVENT
BEGIN:VEVENT
DTSTART;TZID=America/Denver:20230609T180000
DTEND;TZID=America/Denver:20230609T220000
DTSTAMP:20260423T191539
CREATED:20230321T213335Z
LAST-MODIFIED:20230321T213335Z
UID:3541-1686333600-1686348000@seelincolncounty.com
SUMMARY:Limon Rotary Summer Concert Series: The Jeffery Alan Band
DESCRIPTION:
URL:https://seelincolncounty.com/event/limon-rotary-summer-concert-series-the-jeffery-alan-band/
LOCATION:Limon Railroad Park\, 701 1st Street\, Limon\, CO\, 80828
ORGANIZER;CN="Limon Rotary":MAILTO:info@limonrotary.com
END:VEVENT
BEGIN:VEVENT
DTSTART;TZID=America/Denver:20230603T080000
DTEND;TZID=America/Denver:20230603T170000
DTSTAMP:20260423T191539
CREATED:20230221T000924Z
LAST-MODIFIED:20230221T000924Z
UID:3511-1685779200-1685811600@seelincolncounty.com
SUMMARY:Rohr Into Summer
DESCRIPTION:Rohr Plaza\, corner of E and Main\, Flower giveaway\, Bake sale\, Pancake breakfast\, Beer\, Hamburger lunch\, community info\, and lots of amazing vendors! Starting at 9 am 4 packs of flowers  will be given away at the Chamber of Commerce booth at the center of Rohr Plaza (while supplies last)\nVisit with your local Chamber businesses and guests as they display some of their newest and best ideas\, latest tools\, gardening tips\, and all sorts of information for keeping your home & tard summer ready!
URL:https://seelincolncounty.com/event/rohr-into-summer-3/
LOCATION:Rohr Plaza\, E Ave\, Limon\, CO\, 80828
ORGANIZER;CN="Limon Chamber of Commerce":MAILTO:limonchamber@yahoo.com
END:VEVENT
BEGIN:VEVENT
DTSTART;VALUE=DATE:20230529
DTEND;VALUE=DATE:20230530
DTSTAMP:20260423T191539
CREATED:20230220T234117Z
LAST-MODIFIED:20230220T234117Z
UID:3508-1685318400-1685404799@seelincolncounty.com
SUMMARY:Limon Heritage Museum & Railroad Park Opens
DESCRIPTION:
URL:https://seelincolncounty.com/event/limon-heritage-museum-railroad-park-opens/
END:VEVENT
END:VCALENDAR