BEGIN:VCALENDAR
VERSION:2.0
PRODID:-//Things to do in Lincoln County Colorado - ECPv6.13.2.1//NONSGML v1.0//EN
CALSCALE:GREGORIAN
METHOD:PUBLISH
X-ORIGINAL-URL:https://seelincolncounty.com
X-WR-CALDESC:Events for Things to do in Lincoln County Colorado
REFRESH-INTERVAL;VALUE=DURATION:PT1H
X-Robots-Tag:noindex
X-PUBLISHED-TTL:PT1H
BEGIN:VTIMEZONE
TZID:America/Denver
BEGIN:DAYLIGHT
TZOFFSETFROM:-0700
TZOFFSETTO:-0600
TZNAME:MDT
DTSTART:20220313T090000
END:DAYLIGHT
BEGIN:STANDARD
TZOFFSETFROM:-0600
TZOFFSETTO:-0700
TZNAME:MST
DTSTART:20221106T080000
END:STANDARD
BEGIN:DAYLIGHT
TZOFFSETFROM:-0700
TZOFFSETTO:-0600
TZNAME:MDT
DTSTART:20230312T090000
END:DAYLIGHT
BEGIN:STANDARD
TZOFFSETFROM:-0600
TZOFFSETTO:-0700
TZNAME:MST
DTSTART:20231105T080000
END:STANDARD
BEGIN:DAYLIGHT
TZOFFSETFROM:-0700
TZOFFSETTO:-0600
TZNAME:MDT
DTSTART:20240310T090000
END:DAYLIGHT
BEGIN:STANDARD
TZOFFSETFROM:-0600
TZOFFSETTO:-0700
TZNAME:MST
DTSTART:20241103T080000
END:STANDARD
BEGIN:DAYLIGHT
TZOFFSETFROM:-0700
TZOFFSETTO:-0600
TZNAME:MDT
DTSTART:20250309T090000
END:DAYLIGHT
BEGIN:STANDARD
TZOFFSETFROM:-0600
TZOFFSETTO:-0700
TZNAME:MST
DTSTART:20251102T080000
END:STANDARD
END:VTIMEZONE
BEGIN:VEVENT
DTSTART;TZID=America/Denver:20251213T170000
DTEND;TZID=America/Denver:20251213T173000
DTSTAMP:20260423T121940
CREATED:20251209T011727Z
LAST-MODIFIED:20251209T011727Z
UID:4983-1765645200-1765647000@seelincolncounty.com
SUMMARY:Hugo's Christmas Parade of Lights
DESCRIPTION:Celebrate the holiday season in classic small-town style at Hugo’s Christmas Parade of Lights. This festive evening event features brightly decorated floats\, cheerful holiday music\, and the warm community spirit that makes Eastern Colorado shine. \nLineup begins at 5:00 PM at the Genoa-Hugo School\, with the parade starting at 5:30 PM.  After the parade\, everyone is invited to head to the VFW for a cozy chili supper\, a perfect way to wrap up the night. \nA joyful holiday tradition for families\, neighbors\, and visitors alike.
URL:https://seelincolncounty.com/event/hugos-christmas-parade-of-lights/
LOCATION:Genoa Hugo School\, 25 Pirate Lane\, Hugo\, CO\, 80821
CATEGORIES:Holiday,Parades
ATTACH;FMTTYPE=image/jpeg:https://seelincolncounty.com/wp-content/uploads/2025/12/Hugo-Parade-of-Lights-scaled.jpg
ORGANIZER;CN="Kelsey Boyd":MAILTO:kelseyrboyd98@gmail.com
END:VEVENT
BEGIN:VEVENT
DTSTART;TZID=America/Denver:20251213T090000
DTEND;TZID=America/Denver:20251213T110000
DTSTAMP:20260423T121940
CREATED:20251209T010954Z
LAST-MODIFIED:20251209T010954Z
UID:4980-1765616400-1765623600@seelincolncounty.com
SUMMARY:Breakfast with the Elves
DESCRIPTION: Join Lincoln Health for Breakfast with the Elves! Add Breakfast with the Elves as part of your family’s holiday traditions! Free pancakes\, cheerful crafts\, and a visit from Santa make this a fun morning for all ages.\nBring your family\, your Christmas cheer\, and your appetite for a free holiday morning filled with simple joys and small-town sparkle.\n Date: December 13\, 2025 Time: 9:00–11:00 AM Location: Ellis Allen Building\, Lincoln County Fairgrounds33747 County Rd 2W\, Hugo\, CO\nWhat’s Happening: Pancakes & sausage hot off the griddle A fun Christmas craft for kids A special visit from Santa at 10:00 AM
URL:https://seelincolncounty.com/event/breakfast-with-the-elves-5/
LOCATION:Lincoln County Fairgrounds\, 33747 County Road 2w\, Hugo\, CO\, 80821\, United States
CATEGORIES:Holiday
ATTACH;FMTTYPE=image/png:https://seelincolncounty.com/wp-content/uploads/2025/12/Breakfast-With-the-Elves-2025.png
ORGANIZER;CN="Lincoln Health":MAILTO:contactus@lchnh.com
END:VEVENT
BEGIN:VEVENT
DTSTART;VALUE=DATE:20250704
DTEND;VALUE=DATE:20250705
DTSTAMP:20260423T121940
CREATED:20250617T213910Z
LAST-MODIFIED:20250617T213910Z
UID:4760-1751587200-1751673599@seelincolncounty.com
SUMMARY:Limon Independence Day Celebration
DESCRIPTION:Detailed schedule for events for the Limon Chamber of Commerce July 4 festivities \n6:45 am 5K fun Run \n10:00 am Limon Heritage Museum Opens \n12:00 Visit the Vendors at Limon School 5:00 pm Family Games on Gaskill Field \n5:30 pm Rec Dept Community BBQ \n5:30 pm Rotary Concert “Potcheen” at Railroad Park \n8:00 Opening Ceremony for the Cal Ripken/Babe Ruth Colorado State Baseball tournament at Gaskill Field
URL:https://seelincolncounty.com/event/limon-independence-day-celebration-3/
LOCATION:Gaskill Field\, 874 F Avenue\, Limon\, Colorado\, 80828
CATEGORIES:Holiday
ATTACH;FMTTYPE=image/png:https://seelincolncounty.com/wp-content/uploads/2025/06/2025-Independence-Day-Poster-FINAL-994x1536-1.png
ORGANIZER;CN="Limon Chamber of Commerce":MAILTO:limonchamber@yahoo.com
END:VEVENT
BEGIN:VEVENT
DTSTART;TZID=America/Denver:20241208T130000
DTEND;TZID=America/Denver:20241208T160000
DTSTAMP:20260423T121940
CREATED:20241116T014649Z
LAST-MODIFIED:20241118T210454Z
UID:4231-1733662800-1733673600@seelincolncounty.com
SUMMARY:Santa at Prairie Ridge Buffalo Ranch
DESCRIPTION:Free to all! Join us at Prairie Ridge Buffalo Ranch for holiday fun! \n\nChristmas Crafts\nPhotos with Santa & his sleigh\nMake ornaments\nHot Cocoa & Cookies!
URL:https://seelincolncounty.com/event/santa-at-prairie-ridge-buffalo-ranch-3/
LOCATION:Prairie Ridge Buffalo Ranch\, 23001 County Road 201\, Limon\, CO\, 80828
CATEGORIES:Holiday
ORGANIZER;CN="Prairie Ridge Buffalo Ranch":MAILTO:info@prairieridgebuffalo.com
END:VEVENT
BEGIN:VEVENT
DTSTART;TZID=America/Denver:20241123T150000
DTEND;TZID=America/Denver:20241123T183000
DTSTAMP:20260423T121940
CREATED:20241116T014247Z
LAST-MODIFIED:20241118T213237Z
UID:4228-1732374000-1732386600@seelincolncounty.com
SUMMARY:Hugo's Jingle & Mingle Holiday Shopping
DESCRIPTION:Don’t miss Hugo\, Colorado’s Jingle & Mingle Holiday Shopping Event and Prairie Yuletide Christmas Lighting \nNovember 23\, 3:00 pm – 6:30 pm \n\nJoe Will VFW Post 419 4th Avenue\n\nVendors\nAuxillary Dinner\nDrinks\n\n\nMoose Roost- 329 4th Street\n\nBaked Good\, Specialty Drinks & Gifts\n\n\nTown & Country Hardware- 400 4th Street\n\nSales & Gifts\nAnnual Chili Cook-Off\n\n\nHugo Liquors- 513 4th Street\n\nSpecials & Gifts\n\n\nBrown Funeral Home-312 5th Street\n\nOpen House & Refreshments\n\n\nParmer’s Automotive-305 4th Street\n\nPet photos with Santa\nKids welcome\n\n\nPlain’s Bar-331 4th Street\n\nDrinks\, Pool & Food\n\n\nMain Street Mama’s\n\nAntiques\, Gifts & More\n\n\nOne of a Kind-409 4th Street\n\nCraft Supplies\, Native Art\, Stocking Stuffers & Toys\n\n\nPriaire Yuletide Christmas Lighting at the Railroad Park starts at 4:45 pm with High Plains Brass Band
URL:https://seelincolncounty.com/event/hugos-jingle-mingle-holiday-shopping/
LOCATION:Hugo Main Street\, 4th Street\, Hugo\,\, CO\, 80821
CATEGORIES:Holiday
END:VEVENT
BEGIN:VEVENT
DTSTART;TZID=America/Denver:20240704T090000
DTEND;TZID=America/Denver:20240704T233000
DTSTAMP:20260423T121940
CREATED:20240618T223704Z
LAST-MODIFIED:20240619T233515Z
UID:3715-1720083600-1720135800@seelincolncounty.com
SUMMARY:4th of July Hugo Hometown Celebration
DESCRIPTION:9 am Hugo Roping Club Gymkhana \n10 am Hugo Fun Run 5K- Lincoln Health 111 6th Street\, Hugo \n10 am Tom Sawyer 4th -Pie Auction\, Fishing Derby & Watermelon Roll – \nHedlund House 617 3rd Avenue \n12 pm- 6 pm FREE water slide at the Lincoln County Fairgrounds \n1 pm Rosie the Riveter Presentation LIVE & lunch- Eastern Trails Train Depot \n6 pm Food Vendors | FREE Kyle Alan Band Concert 8 pm – 12 am |
URL:https://seelincolncounty.com/event/4th-of-july-hugo-hometown-celebration/
LOCATION:CO
CATEGORIES:Holiday
END:VEVENT
BEGIN:VEVENT
DTSTART;TZID=America/Denver:20240629T063000
DTEND;TZID=America/Denver:20240629T213000
DTSTAMP:20260423T121940
CREATED:20240618T223434Z
LAST-MODIFIED:20240618T223434Z
UID:3712-1719642600-1719696600@seelincolncounty.com
SUMMARY:Limon Independence Day Celebration
DESCRIPTION:6:45 am- 5K Fun Run/Walk at the Limon Community Building \n9:00 am- 3:00 pm Vendor Fair with Food Trucks at the Limon School \nHorseshoe Pit Open at the Railroad Park \n1:00 pm- Limon Heritage Museum Complex Opens \n5:00 pm Family Games at Gaskill Field \n5:00 pm American Legion Burgers & Dogs Concessions \n6:00 – 9:00 pm 101st Army Band Live- Jazz\, Rock & Country \n7:30 pm Watermelon Roll
URL:https://seelincolncounty.com/event/limon-independence-day-celebration-5/
LOCATION:Limon Public School\, 874 F Ave\, Limon\, CO\, 80828\, United States
CATEGORIES:Holiday
END:VEVENT
BEGIN:VEVENT
DTSTART;TZID=America/Denver:20231216T090000
DTEND;TZID=America/Denver:20231216T110000
DTSTAMP:20260423T121940
CREATED:20231122T051232Z
LAST-MODIFIED:20231122T051232Z
UID:3654-1702717200-1702724400@seelincolncounty.com
SUMMARY:Breakfast with the Elves
DESCRIPTION:
URL:https://seelincolncounty.com/event/breakfast-with-the-elves-3/
LOCATION:Lincoln County Fairgrounds\, 33747 County Road 2w\, Hugo\, CO\, 80821\, United States
CATEGORIES:Holiday
ORGANIZER;CN="Lincoln Health":MAILTO:contactus@lchnh.com
END:VEVENT
BEGIN:VEVENT
DTSTART;TZID=America/Denver:20231116T080000
DTEND;TZID=America/Denver:20231116T170000
DTSTAMP:20260423T121940
CREATED:20231117T020951Z
LAST-MODIFIED:20231117T020952Z
UID:3638-1700121600-1700154000@seelincolncounty.com
SUMMARY:Hugo Prairie Yuletide- Live Nativity
DESCRIPTION:Kick off the holiday season right in Hugo\, CO Saturday November 18th beginning at 4:00 pm. \n\n4:00 – Dark- Live Nativity (real camels!)\n5 pm- 8 pm- Late Night Shopping\n\nDon’t miss the local and unique vendors\, Cowboy Christmas Themed Light Display\, Pictures with Santa at PArmers Automotive\, First Responder Chili Cook-Off\, Food & Drink specials at the VFW\, and live music at the Omega Center!
URL:https://seelincolncounty.com/event/hugo-prairie-yuletide-live-nativity/
LOCATION:CO
CATEGORIES:Holiday
END:VEVENT
BEGIN:VEVENT
DTSTART;TZID=America/Denver:20230408T090000
DTEND;TZID=America/Denver:20230408T120000
DTSTAMP:20260423T121940
CREATED:20230220T201218Z
LAST-MODIFIED:20230321T213959Z
UID:3498-1680944400-1680955200@seelincolncounty.com
SUMMARY:Limon Easter Egg Hunt & Photos with the Easter Bunny
DESCRIPTION:Join the Limon Chamber of Commerce\, Town of Limon & Hoffman Drug for the Limon Easter Egg Hunt and photos with the Easter Bunny! \nSaturday April 8th\, 2023 \n9 am – 10:30 am  Photos with the Easter Bunny- Hoffman Drug\, 900 Main St. Limon\, CO 80828 \n11 am Easter Egg Hunt – Areas surrounding Limon Town Hall 100 Civic Center Dr. Limon\, CO 80828 \n*Each age group will have one egg containing a ticket to win an Easter basket prize! \n  \n 
URL:https://seelincolncounty.com/event/limon-easter-egg-hunt-photos-with-the-easter-bunny/
LOCATION:Limon Town Hall\, 100 Civic Center Drive\, Limon\, CO\, 80828
CATEGORIES:Holiday
END:VEVENT
BEGIN:VEVENT
DTSTART;TZID=America/Denver:20221204T130000
DTEND;TZID=America/Denver:20221204T160000
DTSTAMP:20260423T121940
CREATED:20221115T200305Z
LAST-MODIFIED:20221115T200305Z
UID:3471-1670158800-1670169600@seelincolncounty.com
SUMMARY:Santa at Prairie Ridge Buffalo Ranch
DESCRIPTION:
URL:https://seelincolncounty.com/event/santa-at-prairie-ridge-buffalo-ranch-2/
LOCATION:Prairie Ridge Buffalo Ranch\, 23001 County Road 201\, Limon\, CO\, 80828
CATEGORIES:Holiday
ORGANIZER;CN="Prairie Ridge Buffalo Ranch":MAILTO:info@prairieridgebuffalo.com
END:VEVENT
BEGIN:VEVENT
DTSTART;TZID=America/Denver:20221203T170000
DTEND;TZID=America/Denver:20221203T170000
DTSTAMP:20260423T121940
CREATED:20221115T195942Z
LAST-MODIFIED:20221115T195942Z
UID:3469-1670086800-1670086800@seelincolncounty.com
SUMMARY:Hugo Yuletide Tree Lighting
DESCRIPTION:Don’t miss the annual lighting of the Hugo Railroad Park along HWY 40/287 brought to you by Hugo Main Street
URL:https://seelincolncounty.com/event/hugo-yuletide-tree-lighting/
LOCATION:CO
CATEGORIES:Holiday
ORGANIZER;CN="Hugo Main Street":MAILTO:hugomainst@gmail.com
END:VEVENT
END:VCALENDAR