BEGIN:VCALENDAR
VERSION:2.0
PRODID:-//Things to do in Lincoln County Colorado - ECPv6.13.2.1//NONSGML v1.0//EN
CALSCALE:GREGORIAN
METHOD:PUBLISH
X-ORIGINAL-URL:https://seelincolncounty.com
X-WR-CALDESC:Events for Things to do in Lincoln County Colorado
REFRESH-INTERVAL;VALUE=DURATION:PT1H
X-Robots-Tag:noindex
X-PUBLISHED-TTL:PT1H
BEGIN:VTIMEZONE
TZID:America/Denver
BEGIN:DAYLIGHT
TZOFFSETFROM:-0700
TZOFFSETTO:-0600
TZNAME:MDT
DTSTART:20240310T090000
END:DAYLIGHT
BEGIN:STANDARD
TZOFFSETFROM:-0600
TZOFFSETTO:-0700
TZNAME:MST
DTSTART:20241103T080000
END:STANDARD
BEGIN:DAYLIGHT
TZOFFSETFROM:-0700
TZOFFSETTO:-0600
TZNAME:MDT
DTSTART:20250309T090000
END:DAYLIGHT
BEGIN:STANDARD
TZOFFSETFROM:-0600
TZOFFSETTO:-0700
TZNAME:MST
DTSTART:20251102T080000
END:STANDARD
END:VTIMEZONE
BEGIN:VEVENT
DTSTART;VALUE=DATE:20250804
DTEND;VALUE=DATE:20250810
DTSTAMP:20260423T135419
CREATED:20250520T215404Z
LAST-MODIFIED:20250520T215404Z
UID:4562-1754265600-1754783999@seelincolncounty.com
SUMMARY:2025 Lincoln County Fair & Rodeo "Barns & Brands"
DESCRIPTION:Get ready for “Barns & Brands” at the 2025 Lincoln County Fair & Rodeo! Join us in Hugo\, Colorado from July 30–31 and August 2–9 for livestock shows\, rodeos\, parades\, great food\, and classic 4-H & FFA fun. Full schedule and details on the poster! \nVisit Lincoln County Fair & Rodeo for all the details!
URL:https://seelincolncounty.com/event/2025-lincoln-county-fair-rodeo-barns-brands/
LOCATION:Lincoln County Fairgrounds\, 33747 County Road 2w\, Hugo\, CO\, 80821\, United States
CATEGORIES:County Fair
ATTACH;FMTTYPE=image/png:https://seelincolncounty.com/wp-content/uploads/2025/05/Lincoln-County-Fair-Poster_2025.png
END:VEVENT
BEGIN:VEVENT
DTSTART;TZID=America/Denver:20240806T170000
DTEND;TZID=America/Denver:20240806T210000
DTSTAMP:20260423T135419
CREATED:20240718T052753Z
LAST-MODIFIED:20240718T052753Z
UID:4125-1722963600-1722978000@seelincolncounty.com
SUMMARY:Hugo Ranch Rodeo
DESCRIPTION:Join us for the 7th Annual Hugo Ranch Rodeo- admission is free and the thrills are non-stop. \nWitness the grit and skill of ranch life at the Hugo Ranch Rodeo! This ain’t your typical rodeo. Here\, you’ll see working ranch cowboys compete in events that mirror their daily tasks\, like Wild Cow Milking and Branding. It’s a thrilling display of teamwork\, horsemanship\, and the true spirit of the West! Don’t miss this chance to see rodeo action rooted in cattle country tradition.
URL:https://seelincolncounty.com/event/hugo-ranch-rodeo-2/
LOCATION:Lincoln County Fairgrounds\, 33747 County Road 2w\, Hugo\, CO\, 80821\, United States
CATEGORIES:County Fair
ATTACH;FMTTYPE=image/jpeg:https://seelincolncounty.com/wp-content/uploads/2024/07/Hugo-Ranch-Rodeo.jpg
END:VEVENT
END:VCALENDAR