BEGIN:VCALENDAR
VERSION:2.0
PRODID:-//Things to do in Lincoln County Colorado - ECPv6.13.2.1//NONSGML v1.0//EN
CALSCALE:GREGORIAN
METHOD:PUBLISH
X-WR-CALNAME:Things to do in Lincoln County Colorado
X-ORIGINAL-URL:https://seelincolncounty.com
X-WR-CALDESC:Events for Things to do in Lincoln County Colorado
REFRESH-INTERVAL;VALUE=DURATION:PT1H
X-Robots-Tag:noindex
X-PUBLISHED-TTL:PT1H
BEGIN:VTIMEZONE
TZID:America/Denver
BEGIN:DAYLIGHT
TZOFFSETFROM:-0700
TZOFFSETTO:-0600
TZNAME:MDT
DTSTART:20230312T090000
END:DAYLIGHT
BEGIN:STANDARD
TZOFFSETFROM:-0600
TZOFFSETTO:-0700
TZNAME:MST
DTSTART:20231105T080000
END:STANDARD
BEGIN:DAYLIGHT
TZOFFSETFROM:-0700
TZOFFSETTO:-0600
TZNAME:MDT
DTSTART:20240310T090000
END:DAYLIGHT
BEGIN:STANDARD
TZOFFSETFROM:-0600
TZOFFSETTO:-0700
TZNAME:MST
DTSTART:20241103T080000
END:STANDARD
BEGIN:DAYLIGHT
TZOFFSETFROM:-0700
TZOFFSETTO:-0600
TZNAME:MDT
DTSTART:20250309T090000
END:DAYLIGHT
BEGIN:STANDARD
TZOFFSETFROM:-0600
TZOFFSETTO:-0700
TZNAME:MST
DTSTART:20251102T080000
END:STANDARD
END:VTIMEZONE
BEGIN:VEVENT
DTSTART;TZID=America/Denver:20251004T200000
DTEND;TZID=America/Denver:20251004T233000
DTSTAMP:20260423T121828
CREATED:20250916T041353Z
LAST-MODIFIED:20250916T041353Z
UID:4831-1759608000-1759620600@seelincolncounty.com
SUMMARY:Pirate Alumni Back Alley Bash
DESCRIPTION:“Pirate Alumni Back Alley Bash—Oct 4 at 8 p.m.\, behind The Plains Bar\, live music by Ain’t From Here.” \nPirate Alumni Back Alley Bash – Oct 4\, 8 PM (Hugo\, CO) \nJoin Pirate Alumni in Hugo\, CO for the Back Alley Bash\, Sat Oct 4 at 8 PM behind The Plains Bar with live music by “Ain’t From Here\,” 2024 CCMHOF nominees. \nCelebrate Genoa-Hugo Pirate Alumni at the Back Alley Bash on Saturday\, October 4th at 8:00 p.m. Gather behind The Plains Bar for a small-town street-dance vibe and live country/Americana from Ain’t From Here—Colorado Country Music Hall of Fame 2024 Band of the Year nominees. Bring your friends\, meet up with classmates\, and dance under the fall sky as we keep Pirate pride going strong in Hugo\, Colorado.This alumni-friendly night anchors a full weekend of local fun across Lincoln County. Come early to grab dinner in town\, then head to the alley for music and mingling. The event is outdoors; plan layers and comfortable shoes. Follow the Tourism Board and event hosts for any updates on parking\, food/drink options\, and weather plans. Whether you graduated decades ago or just last year\, the Back Alley Bash is your chance to reconnect with Pirates\, support live music\, and make new hometown memories. \n\n\n\nWhat: Pirate Alumni Back Alley Bash (outdoor concert/dance) \n\n\nWhen: Saturday\, Oct 4 • 8:00 p.m. \n\n\nWhere: Behind The Plains Bar (Hugo\, CO) \n\n\nMusic: Ain’t From Here – Colorado Country Music Hall of Fame 2024 Band of the Year nominees \n\n\nWho: Alumni\, families\, and friends (check host updates for age policies)
URL:https://seelincolncounty.com/event/pirate-alumni-back-alley-bash/
LOCATION:Hugo VFW  Post 6612\, 419 4th St\, Hugo\, CO\, 80821\, United States
CATEGORIES:Concert
ATTACH;FMTTYPE=image/png:https://seelincolncounty.com/wp-content/uploads/2025/09/Geno-hugo-Back-alley-Bash-Oct-4.png
END:VEVENT
BEGIN:VEVENT
DTSTART;TZID=America/Denver:20250823T180000
DTEND;TZID=America/Denver:20250823T210000
DTSTAMP:20260423T121828
CREATED:20250530T023400Z
LAST-MODIFIED:20250530T023747Z
UID:4638-1755972000-1755982800@seelincolncounty.com
SUMMARY:Concert in the Park with The Jeffrey Alan Band - Limon Rotary Club
DESCRIPTION:Date: Saturday\, August 23\, 2025 \nTime: 6:00 PM \nLocation: Railroad Park\, Limon\, Colorado \nDescription: \nClose out the summer with an evening of great music! The Limon Rotary Club is excited to present the final Concert in the Park of the season\, featuring The Jeffrey Alan Band! \nJoin us on Saturday\, August 23\, 2025\, for a lively performance at Railroad Park in Limon. The Jeffrey Alan Band is set to deliver an engaging show\, making for a perfect evening out with friends and family. \nThese Concerts in the Park are a beloved community tradition\, offering free entertainment for all ages. Bring your picnic baskets\, lawn chairs\, and enjoy the vibrant atmosphere under the Colorado sky. \nEvent Details: \n\nWhat: Concert in the Park with The Jeffrey Alan Band\nWhen: Saturday\, August 23\, 2025\, at 6:00 PM\nWhere: Railroad Park\, Limon\, Colorado\nCost: FREE ENTRY! (Common for Concert in the Park\, confirm if not explicitly stated on poster)\n\nThis event is proudly presented by the Limon Rotary Club\, with support from Coors Light. For more information about the Limon Rotary Club and their community initiatives\, please visit: www.LimonRotary.com \nDon’t miss this fantastic final summer concert in the park!
URL:https://seelincolncounty.com/event/concert-in-the-park-with-the-jeffrey-alan-band-limon-rotary-club/
LOCATION:Limon Railroad Park\, 701 1st Street\, Limon\, CO\, 80828
CATEGORIES:Concert
ATTACH;FMTTYPE=image/png:https://seelincolncounty.com/wp-content/uploads/2025/05/Aug-23-Concert-in-the-park.png
ORGANIZER;CN="Limon Rotary":MAILTO:info@limonrotary.com
END:VEVENT
BEGIN:VEVENT
DTSTART;TZID=America/Denver:20250704T173000
DTEND;TZID=America/Denver:20250704T193000
DTSTAMP:20260423T121828
CREATED:20250530T023124Z
LAST-MODIFIED:20250530T023645Z
UID:4635-1751650200-1751657400@seelincolncounty.com
SUMMARY:4th of July Concert in the Park with Potcheen - Limon Rotary Club
DESCRIPTION:Date: Friday\, July 4\, 2025 \nTime: 5:30 PM – 7:30 PM \nLocation: Railroad Park\, Limon\, Colorado \nDescription: \nCelebrate Independence Day with live music in the park! The Limon Rotary Club is thrilled to present a special 4th of July Concert in the Park featuring Potcheen! \nJoin us on Friday\, July 4\, 2025\, for a festive evening of tunes at Railroad Park in Limon. Potcheen will bring their unique sound to help us celebrate freedom and community. This is the perfect way to kick off your Independence Day celebrations before the fireworks begin (check local listings for firework times). \nGather your family and friends\, bring your lawn chairs or blankets\, and enjoy a patriotic atmosphere with great music in the heart of Limon. It’s a fantastic community event you won’t want to miss! \nEvent Details: \n\nWhat: 4th of July Concert in the Park with Potcheen\nWhen: Friday\, July 4\, 2025\, at 5:30 PM\nWhere: Railroad Park\, Limon\, Colorado\nCost: Likely Free Entry (Common for Concert in the Park\, confirm if not explicitly stated on poster)\n\nLet’s toast to freedom and enjoy a Happy Independence Day together! \nThis event is proudly presented by the Limon Rotary Club\, with support from Coors Light. For more information about the Limon Rotary Club\, please visit: www.LimonRotary.com
URL:https://seelincolncounty.com/event/4th-of-july-concert-in-the-park-with-potcheen-limon-rotary-club/
LOCATION:Limon Railroad Park\, 701 1st Street\, Limon\, CO\, 80828
CATEGORIES:Concert
ATTACH;FMTTYPE=image/png:https://seelincolncounty.com/wp-content/uploads/2025/05/July-4-Concert-in-the-Park.png
ORGANIZER;CN="Limon Rotary":MAILTO:info@limonrotary.com
END:VEVENT
BEGIN:VEVENT
DTSTART;TZID=America/Denver:20250628T210000
DTEND;TZID=America/Denver:20250628T230000
DTSTAMP:20260423T121828
CREATED:20250530T024705Z
LAST-MODIFIED:20250530T024705Z
UID:4641-1751144400-1751151600@seelincolncounty.com
SUMMARY:Kenny Feidler & The Cowboy Killers ft. Brennan Scott Greene
DESCRIPTION:Kenny Feidler & The Cowboy Killers with Brennan Scott Greene – Live at the Colorado Championship Ranch Rodeo! \nDate: Saturday\, June 28\, 2025 Time: Concert approximately 9:00 PM (following rodeo events) Location: Lincoln County Fairgrounds\, Hugo\, Colorado \nDescription: \nGet ready for an authentic Western experience capped off by an unforgettable night of music! The Colorado Championship Ranch Rodeo is thrilled to present Kenny Feidler & The Cowboy Killers live in concert\, with special guest Brennan Scott Greene opening the show. \nThis isn’t just any concert; it’s the thrilling conclusion to a full day of the 24th Annual Colorado Championship Ranch Rodeo. Before the music starts\, you’ll witness real working ranch cowboys competing in intense rodeo events\, including bronc riding\, a WRCA Youth Ranch Rodeo\, and more\, all steeped in genuine ranching heritage. There’s also a Western Trade Show to explore! \nWhat to Expect from the Concert: \nKenny Feidler & The Cowboy Killers bring a raw\, authentic sound that cuts right to the heart of the cowboy spirit. Expect powerful\, storytelling lyrics drawn from real experiences on the range and rodeo life\, blended with gritty country and folk influences. Their music is known for its genuine emotion and an unvarnished look at the Western lifestyle\, promising a truly captivating performance. Brennan Scott Greene\, a talented Texas Cowboy and country artist\, will set the perfect tone for the evening. \nThis concert offers incredible value: a full day of thrilling rodeo action culminating in two fantastic live music performances. \nTicket Information: \n\nConcert tickets are just $20 for adults and $10 for kids.\nSecure your tickets now: https://www.eventbrite.com/e/colorado-championship-ranch-rodeo-kenny-feidler-cowboy-killers-tickets-1354234484799\n\nFor more information on the full Colorado Championship Ranch Rodeo schedule and events\, visit: https://www.coloradochampionshipranchrodeo.com/ \nDon’t miss this unique opportunity to immerse yourself in cowboy culture and powerful country music in Hugo\, Colorado!
URL:https://seelincolncounty.com/event/kenny-feidler-the-cowboy-killers-ft-brennan-scott-greene/
LOCATION:Lincoln County Fairgrounds\, 33747 County Road 2w\, Hugo\, CO\, 80821\, United States
CATEGORIES:Concert
ATTACH;FMTTYPE=image/png:https://seelincolncounty.com/wp-content/uploads/2025/05/Kenny-Feidler-Concert-Flyer.png
ORGANIZER;CN="Colorado Championship Ranch Rodeo":MAILTO:ccrr@esrta.com
END:VEVENT
BEGIN:VEVENT
DTSTART;TZID=America/Denver:20250627T203000
DTEND;TZID=America/Denver:20250627T230000
DTSTAMP:20260423T121828
CREATED:20250530T033007Z
LAST-MODIFIED:20250530T033007Z
UID:4646-1751056200-1751065200@seelincolncounty.com
SUMMARY:Back Alley Dance
DESCRIPTION:Free Back Alley Dance featuring WMW Music \nDate: Friday\, June 27\, 2025 \nTime: Band starts at 8:30 PM Location: Hugo\, Colorado\, Alley Behind the Plains Bar & The VFW \nDescription: \nKick off the Colorado Championship Ranch Rodeo weekend with a fantastic night of FREE live music and dancing! Join us for our annual Back Alley Dance on Friday\, June 27\, 2025\, featuring WMW Music! \nWMW Music will be playing a lively mix of Country & Classic Rock\, guaranteeing a great time for everyone to get up and dance. This event is FREE TO THE PUBLIC\, making it a perfect way to gather with friends and family before the main rodeo events and Saturday’s big concert. \nCome enjoy the friendly atmosphere and great tunes right in the heart of Hugo. You can enter the dance from either the Plains Bar or the VFW. \nEvent Details: \n\nWhat: Back Alley Dance with WMW Music\nWhen: Friday\, June 27\, 2025\nBand Starts: 8:30 PM\nWhere: Back Alley (Enter from Plains Bar or The VFW)\, Hugo\, Colorado\nCost: ABSOLUTELY FREE!\n\nDon’t miss this lively evening of music and fun!
URL:https://seelincolncounty.com/event/back-alley-dance/
LOCATION:Hugo Main Street\, 4th Street\, Hugo\,\, CO\, 80821
CATEGORIES:Concert
ATTACH;FMTTYPE=image/png:https://seelincolncounty.com/wp-content/uploads/2025/05/thumbnail_CCRR-‘25-Alley-Dance-Concert-Ads.png
ORGANIZER;CN="Colorado Championship Ranch Rodeo":MAILTO:ccrr@esrta.com
END:VEVENT
BEGIN:VEVENT
DTSTART;TZID=America/Denver:20250614T180000
DTEND;TZID=America/Denver:20250614T210000
DTSTAMP:20260423T121828
CREATED:20250530T022715Z
LAST-MODIFIED:20250530T023507Z
UID:4632-1749924000-1749934800@seelincolncounty.com
SUMMARY:June 14 Concert in the Park featuring Finaleyes - Limon Rotary Club
DESCRIPTION:Concert in the Park featuring Finaleyes – Limon Rotary Club \nDate: Saturday\, June 14\, 2025 \nTime: 6:00 PM \nLocation: Railroad Park\, Limon\, Colorado \nDescription: \nGet ready for a fantastic evening of live music! The Limon Rotary Club invites you to their Concert in the Park on Saturday\, June 14\, 2025\, featuring special guest Finaleyes! \nFinaleyes is known for their energetic performances\, promising a memorable show for everyone. This is a wonderful opportunity to enjoy great music in a beautiful outdoor setting at Railroad Park in Limon. \nThe best part? Entry is absolutely FREE! Bring your family and friends\, pack a picnic\, and enjoy a wonderful community evening filled with good vibes and awesome tunes. \nEvent Details: \n\nWhat: Concert in the Park with Finaleyes\nWhen: Saturday\, June 14\, 2025\, at 6:00 PM\nWhere: Railroad Park\, Limon\, Colorado\nCost: FREE ENTRY!\n\nFor more information about the band\, visit: www.finaleyesband.com \nThis event is proudly presented by the Limon Rotary Club\, with support from Coors Light. For additional information about the Limon Rotary Club and their events\, please visit: www.LimonRotary.com \nDon’t miss out on this fun-filled evening under the Colorado sky!
URL:https://seelincolncounty.com/event/june-14-concert-in-the-park-featuring-finaleyes-limon-rotary-club/
LOCATION:Limon Railroad Park\, 701 1st Street\, Limon\, CO\, 80828
CATEGORIES:Concert
ATTACH;FMTTYPE=image/jpeg:https://seelincolncounty.com/wp-content/uploads/2025/05/June-14-Concert-in-the-Park.jpg
ORGANIZER;CN="Limon Rotary":MAILTO:info@limonrotary.com
END:VEVENT
BEGIN:VEVENT
DTSTART;TZID=America/Denver:20250530T190000
DTEND;TZID=America/Denver:20250530T203000
DTSTAMP:20260423T121828
CREATED:20250530T022508Z
LAST-MODIFIED:20250530T022508Z
UID:4625-1748631600-1748637000@seelincolncounty.com
SUMMARY:May 30 American Rhythm Folk Ensemble
DESCRIPTION:American Rhythm Folk Ensemble Concert – Limon Rotary Club \nDate: Friday\, May 30\, 2025 Time: 7:00 PM – 9:00 PM (Assuming a 2-hour show\, adjust if known) Location: Limon High School Gym\, Limon\, Colorado \nDescription: \nJoin the Limon Rotary Club for an exciting evening celebrating America’s spirit through music and dancing with the American Rhythm Folk Ensemble! \nThe American Rhythm Folk Ensemble is known for their vibrant performances that bring history and culture to life through dynamic music and engaging dance routines. This is a wonderful opportunity for the whole family to enjoy a patriotic and entertaining show right here in Limon. \nCome and experience a unique blend of American traditions and artistic expression. It’s an event not to be missed! \nDetails: \n\nWhat: American Rhythm Folk Ensemble Performance\nWhen: Friday\, May 30\, 2025\, at 7:00 PM\nWhere: Limon High School Gym\, Limon\, Colorado\n\nFor more information about the American Rhythm Folk Ensemble\, visit: www.ARFOLKTEAM.com \nPresented by the Limon Rotary Club. Learn more about their work at: www.LimonRotary.com \nWe look forward to seeing you there for a memorable night of American rhythm
URL:https://seelincolncounty.com/event/may-30-american-rhythm-folk-ensemble/
LOCATION:CO
CATEGORIES:Concert
ATTACH;FMTTYPE=image/jpeg:https://seelincolncounty.com/wp-content/uploads/2025/05/May-30Concert-int-he-Park.jpg
ORGANIZER;CN="Limon Rotary":MAILTO:info@limonrotary.com
END:VEVENT
BEGIN:VEVENT
DTSTART;TZID=America/Denver:20240824T180000
DTEND;TZID=America/Denver:20240824T220000
DTSTAMP:20260423T121828
CREATED:20240620T193740Z
LAST-MODIFIED:20240620T193740Z
UID:3729-1724522400-1724536800@seelincolncounty.com
SUMMARY:Concert in the Park- August 24
DESCRIPTION:After the Hub City Classic Car & Motorcycle show\, the Limon Rotary presents Lola Rising for their last Concert in the Park for 2024! \nBring the whole family\, some blankets and some lawn chairs. The Rotary Beer Garden will be open as well!
URL:https://seelincolncounty.com/event/concert-in-the-park-august-24/
LOCATION:Limon Railroad Park\, 701 1st Street\, Limon\, CO\, 80828
CATEGORIES:Concert
ORGANIZER;CN="Limon Rotary":MAILTO:info@limonrotary.com
END:VEVENT
BEGIN:VEVENT
DTSTART;TZID=America/Denver:20230728T180000
DTEND;TZID=America/Denver:20230728T210000
DTSTAMP:20260423T121828
CREATED:20230221T003925Z
LAST-MODIFIED:20230321T213123Z
UID:3521-1690567200-1690578000@seelincolncounty.com
SUMMARY:Limon Rotary Concert in the Park Series- Long Run
DESCRIPTION:
URL:https://seelincolncounty.com/event/limon-rotary-concert-in-the-park-series-long-run/
LOCATION:Limon Railroad Park\, 701 1st Street\, Limon\, CO\, 80828
CATEGORIES:Concert
ORGANIZER;CN="Limon Rotary":MAILTO:info@limonrotary.com
END:VEVENT
END:VCALENDAR