BEGIN:VCALENDAR
VERSION:2.0
PRODID:-//Things to do in Lincoln County Colorado - ECPv6.13.2.1//NONSGML v1.0//EN
CALSCALE:GREGORIAN
METHOD:PUBLISH
X-WR-CALNAME:Things to do in Lincoln County Colorado
X-ORIGINAL-URL:https://seelincolncounty.com
X-WR-CALDESC:Events for Things to do in Lincoln County Colorado
REFRESH-INTERVAL;VALUE=DURATION:PT1H
X-Robots-Tag:noindex
X-PUBLISHED-TTL:PT1H
BEGIN:VTIMEZONE
TZID:America/Denver
BEGIN:DAYLIGHT
TZOFFSETFROM:-0700
TZOFFSETTO:-0600
TZNAME:MDT
DTSTART:20150308T090000
END:DAYLIGHT
BEGIN:STANDARD
TZOFFSETFROM:-0600
TZOFFSETTO:-0700
TZNAME:MST
DTSTART:20151101T080000
END:STANDARD
BEGIN:DAYLIGHT
TZOFFSETFROM:-0700
TZOFFSETTO:-0600
TZNAME:MDT
DTSTART:20160313T090000
END:DAYLIGHT
BEGIN:STANDARD
TZOFFSETFROM:-0600
TZOFFSETTO:-0700
TZNAME:MST
DTSTART:20161106T080000
END:STANDARD
BEGIN:DAYLIGHT
TZOFFSETFROM:-0700
TZOFFSETTO:-0600
TZNAME:MDT
DTSTART:20170312T090000
END:DAYLIGHT
BEGIN:STANDARD
TZOFFSETFROM:-0600
TZOFFSETTO:-0700
TZNAME:MST
DTSTART:20171105T080000
END:STANDARD
BEGIN:DAYLIGHT
TZOFFSETFROM:-0700
TZOFFSETTO:-0600
TZNAME:MDT
DTSTART:20180311T090000
END:DAYLIGHT
BEGIN:STANDARD
TZOFFSETFROM:-0600
TZOFFSETTO:-0700
TZNAME:MST
DTSTART:20181104T080000
END:STANDARD
BEGIN:DAYLIGHT
TZOFFSETFROM:-0700
TZOFFSETTO:-0600
TZNAME:MDT
DTSTART:20190310T090000
END:DAYLIGHT
BEGIN:STANDARD
TZOFFSETFROM:-0600
TZOFFSETTO:-0700
TZNAME:MST
DTSTART:20191103T080000
END:STANDARD
BEGIN:DAYLIGHT
TZOFFSETFROM:-0700
TZOFFSETTO:-0600
TZNAME:MDT
DTSTART:20200308T090000
END:DAYLIGHT
BEGIN:STANDARD
TZOFFSETFROM:-0600
TZOFFSETTO:-0700
TZNAME:MST
DTSTART:20201101T080000
END:STANDARD
BEGIN:DAYLIGHT
TZOFFSETFROM:-0700
TZOFFSETTO:-0600
TZNAME:MDT
DTSTART:20210314T090000
END:DAYLIGHT
BEGIN:STANDARD
TZOFFSETFROM:-0600
TZOFFSETTO:-0700
TZNAME:MST
DTSTART:20211107T080000
END:STANDARD
BEGIN:DAYLIGHT
TZOFFSETFROM:-0700
TZOFFSETTO:-0600
TZNAME:MDT
DTSTART:20220313T090000
END:DAYLIGHT
BEGIN:STANDARD
TZOFFSETFROM:-0600
TZOFFSETTO:-0700
TZNAME:MST
DTSTART:20221106T080000
END:STANDARD
BEGIN:DAYLIGHT
TZOFFSETFROM:-0700
TZOFFSETTO:-0600
TZNAME:MDT
DTSTART:20230312T090000
END:DAYLIGHT
BEGIN:STANDARD
TZOFFSETFROM:-0600
TZOFFSETTO:-0700
TZNAME:MST
DTSTART:20231105T080000
END:STANDARD
BEGIN:DAYLIGHT
TZOFFSETFROM:-0700
TZOFFSETTO:-0600
TZNAME:MDT
DTSTART:20240310T090000
END:DAYLIGHT
BEGIN:STANDARD
TZOFFSETFROM:-0600
TZOFFSETTO:-0700
TZNAME:MST
DTSTART:20241103T080000
END:STANDARD
BEGIN:DAYLIGHT
TZOFFSETFROM:-0700
TZOFFSETTO:-0600
TZNAME:MDT
DTSTART:20250309T090000
END:DAYLIGHT
BEGIN:STANDARD
TZOFFSETFROM:-0600
TZOFFSETTO:-0700
TZNAME:MST
DTSTART:20251102T080000
END:STANDARD
END:VTIMEZONE
BEGIN:VEVENT
DTSTART;VALUE=DATE:20250823
DTEND;VALUE=DATE:20250824
DTSTAMP:20260423T211746
CREATED:20250307T004148Z
LAST-MODIFIED:20250818T212352Z
UID:4306-1755907200-1755993599@seelincolncounty.com
SUMMARY:Hub City Classic Car\, Truck & Motorycle Show
DESCRIPTION:Hub City Classic Car\, Truck & Motorcycle Show\nSaturday\, August 23\, 2025 – Limon\, Colorado \nJoin us in downtown Limon for a full day of community fun\, classic cars\, live entertainment\, and activities for all ages! \nEvent Schedule\nParade Line-Up | 8:00–10:00 AMStart the day with excitement as classic cars\, trucks\, and motorcycles line up at Flying J on Market Place. \nCommunity Breakfast | 9:00–10:30 AMFuel up with a delicious breakfast served by Lincoln Health in downtown Limon. \nVendors\, Food & Fun | 9:00 AM–3:00 PMExplore a variety of local vendors\, grab a bite to eat\, enjoy a cold drink\, and join in a friendly game of horseshoes. \nLive DJ | 10:00 AM–3:00 PMEnjoy music throughout the day with DJ Lewie keeping the energy high. \nParade | 10:30 AMWatch as the parade of vehicles cruises from Flying J to “E” Avenue for parking and display. \nPresentation of Colors | 11:00 AMHonor our country and community with a patriotic ceremony. \nShow & Shine Judging | 11:00 AMCar owners\, get ready — judging begins! Who will take home the trophies this year? \nBouncy Houses | 11:00 AM–2:00 PMFun for the kids at Railroad Park while the adults explore the show. \nVoting Closes | 12:30 PMDon’t forget to cast your ballot for the People’s Choice Awards at the Chamber table inside the Senior Center. \nAwards & Pictures | 2:30 PMCelebrate the winners and snap photos with your favorite cars and motorcycles. \nEvening Concert | 6:00 PMEnd the day with live music as the Limon Rotary presents The Jeffery Alan Band. \nAdditional Information\n\n\nPeer-voted awards: Your vote helps decide the People’s Choice! \n\n\nDash plaques available for preregistered participants (deadline August 1). \n\n\nPreregister online at limonchamber.us \n\n\nCome for the cars\, stay for the community — and enjoy a summer Saturday in the Hub City! \n \nMap of the 2025 Hub City Classic Parade Route
URL:https://seelincolncounty.com/event/hub-city-classic-car-truck-motorycle-show/
CATEGORIES:Car Shows
ATTACH;FMTTYPE=image/png:https://seelincolncounty.com/wp-content/uploads/2025/03/2025-Hub-City-Classic-POster.png
END:VEVENT
BEGIN:VEVENT
DTSTART;VALUE=DATE:20190824
DTEND;VALUE=DATE:20190825
DTSTAMP:20260423T211746
CREATED:20190516T001324Z
LAST-MODIFIED:20190516T001324Z
UID:2830-1566604800-1566691199@seelincolncounty.com
SUMMARY:29th Annual Hub City Classic Car & Motorcycle Show
DESCRIPTION:Save the Date! Schedule coming soon! \nThis will be the 29th year for the Hub City Classic Car and Motor Cycle Show! Bigger and better than ever!\n(see flyer for more information). Cash Prizes awarded\, more classes than ever!
URL:https://seelincolncounty.com/event/29th-annual-hub-city-classic-car-motorcycle-show/
CATEGORIES:Car Shows
ORGANIZER;CN="Limon Chamber of Commerce":MAILTO:limonchamber@yahoo.com
END:VEVENT
BEGIN:VEVENT
DTSTART;VALUE=DATE:20180608
DTEND;VALUE=DATE:20180611
DTSTAMP:20260423T211746
CREATED:20180521T182419Z
LAST-MODIFIED:20180521T182457Z
UID:2593-1528416000-1528675199@seelincolncounty.com
SUMMARY:Hugo Motor Days
DESCRIPTION:$15 Pre-Entry Fee\n$20 Entries received after 06/08/18\n$5 for each additional entry\n\nFriday\n\nRegistration from 5:30 – 7:30 pm\nFree movie at dusk presented by Genoa Fire Department. Donations appreciated!\n\nSaturday\n\nRegistration 8:00 – 10:00 am\nSwap Meet- ALL DAY\nKids Activities- ALL DAY\nBlow-up car 2:00 pm\nDoor Prizes & Awards 3:30 pm\nBBQ Beef/Pork Dinner 5:30 pm\n\nSunday\n\nBreakfast Sponsored by the veterans of the VFW\n\nTo participate in Swap Meet please contact Ed Waite 740-0360
URL:https://seelincolncounty.com/event/hugo-motor-days-3/
LOCATION:Lincoln County Fairgrounds\, 33747 County Road 2w\, Hugo\, CO\, 80821\, United States
CATEGORIES:Car Shows
ORGANIZER;CN="Brent White":MAILTO:hugomotordays@gmail.com
END:VEVENT
BEGIN:VEVENT
DTSTART;VALUE=DATE:20170818
DTEND;VALUE=DATE:20170820
DTSTAMP:20260423T211746
CREATED:20170713T224312Z
LAST-MODIFIED:20170807T225923Z
UID:2368-1503014400-1503187199@seelincolncounty.com
SUMMARY:27th Annual Hub City Classic Car Show
DESCRIPTION:Hub City Car Classic August 18 & 19\nDowntown E Avenue\n27th Anniversary!\nGuaranteed to be one of the best shows yet! \nFriday August 18th  \n7 pm at Limon Schools  \nTalent Contest • Junior Class BBQ • FIREWORKS \nSaturday August 19th \n8 am- 10am Car & Motorcycle Registration @ Flying J \n8 am Annabeth’s Smile 5K Walk Run  (Registration 7am at Town Hall) \n10am- Parade to Downtown \n1pm- Soap Box Race \n10am- 3pm Downtown:  \nShow & Shine • Bingo • Drawings • Beer Garden • Horseshoe Contest • Art • Craft Show • Vendor Fair • Farmer’s Market • Food Booths • Dunk Tank • Bouncy Houses  \n8am – 1pm Eastern Colorado Veteran’s War Memorial Benefit Poker Run  \n2:30 pm- Car & Motorcycle Awards \nwww.limonchamber.org  (719)775-9418 
URL:https://seelincolncounty.com/event/27th-annual-hub-city-classic-car-show/
LOCATION:Limon\, Colorado\, Limon\, CO\, 80828\, United States
CATEGORIES:Car Shows
END:VEVENT
BEGIN:VEVENT
DTSTART;TZID=America/Denver:20150821T160000
DTEND;TZID=America/Denver:20150822T170000
DTSTAMP:20260423T211746
CREATED:20150616T201247Z
LAST-MODIFIED:20150818T215348Z
UID:727-1440172800-1440262800@seelincolncounty.com
SUMMARY:Hub City Classic Car Show - Limon\, Colorado August 21\,22\, 2015
DESCRIPTION:The rumble\, the roar and the excitement is back as the Annual Hub City Classic Car Show returns to Limon for another year on August 21\, 22\, 2015  It’s open to classic cars and motorcycles\, with judging\, trophy’s and cash prizes. \nsoap-racers2image12Friday_Night_Soapracer_Car_Showsoap-racerslimon-car-show-video-32-5\nThis is an event that’s fun for the entire family and It all starts with barbeque\, soap box car judging\, music and fireworks starting around 6:30 P-M on Friday night on the High School Athletic Field at the north end of G-Avenue. \nSaturday morning kicks off with staging the parade in the parking area of the Flying-J fuel and convenience complex just north of I-70 at exit 359\, then the parade from Flying-J all the way into downtown Limon on US24/Main St.\, where the contestants will park and polish these magnificent machines under the shade trees along E-Avenue. \nThis is small town America at its best and an event you don’t want to miss!\nNeed Details and Entry Forms?For More Details and Entry Forms for Cars or Motorcycles\, Please Contact the Limon Colorado Chamber of Commerce
URL:https://seelincolncounty.com/event/hub-city-classic-car-show-limon-colorado-august-2122-2015/
LOCATION:Limon\, Colorado\, Limon\, CO\, 80828\, United States
CATEGORIES:Car Shows
END:VEVENT
END:VCALENDAR